BEGIN:VCALENDAR
VERSION:2.0
PRODID:-//CEAM - ECPv4.6.22//NONSGML v1.0//EN
CALSCALE:GREGORIAN
METHOD:PUBLISH
X-WR-CALNAME:CEAM
X-ORIGINAL-URL:https://www.ceam.org.uy
X-WR-CALDESC:Eventos para CEAM
BEGIN:VEVENT
DTSTART;TZID=UTC-3:20221015T100000
DTEND;TZID=UTC-3:20221015T120000
DTSTAMP:20260426T003302
CREATED:20221005T163822Z
LAST-MODIFIED:20221012T154144Z
UID:6084-1665828000-1665835200@www.ceam.org.uy
SUMMARY:DIA MUNDIAL DE LA ORACION - Jornada preparatoria Uruguay - 15.10.2022
DESCRIPTION: \nEl 15.10.2022 a las 10.00 h se llevará a cabo la JORNADA PREPARATORIA URUGUAY para el DMO del año 2023 en la Iglesia Metodista\, Templo San Pablo\, en la Av. Garibaldi 2661. \nCompartirHaz clic para compartir en Facebook (Se abre en una ventana nueva)Haz clic para compartir en WhatsApp (Se abre en una ventana nueva)
URL:https://www.ceam.org.uy/evento/dia-mundial-de-la-oracion-jornada-preparatoria-uruguay-15-10-2022/
CATEGORIES:CEAM-Varios,Otros
END:VEVENT
END:VCALENDAR