BEGIN:VCALENDAR
VERSION:2.0
PRODID:-//CEAM - ECPv4.6.22//NONSGML v1.0//EN
CALSCALE:GREGORIAN
METHOD:PUBLISH
X-WR-CALNAME:CEAM
X-ORIGINAL-URL:https://www.ceam.org.uy
X-WR-CALDESC:Eventos para CEAM
BEGIN:VEVENT
DTSTART;TZID=UTC-3:20241207T160000
DTEND;TZID=UTC-3:20241207T190000
DTSTAMP:20260422T180437
CREATED:20241022T144015Z
LAST-MODIFIED:20241127T142456Z
UID:9312-1733587200-1733598000@www.ceam.org.uy
SUMMARY:JÄHRLICHES GEMEINDEFEST - FIESTA CONGREGACIONAL ANUAL
DESCRIPTION:FIESTA CONGREGACIONAL – GEMEINDEFEST – sábado 7 de diciembre de 2024 – 16.00h\nPARA AGENDAR – BITTE VORMERKEN \n \nCompartirHaz clic para compartir en Facebook (Se abre en una ventana nueva)Haz clic para compartir en WhatsApp (Se abre en una ventana nueva)
URL:https://www.ceam.org.uy/evento/jahrliches-gemeindefest-fiesta-congregacional-anual/
CATEGORIES:CEAM-Varios
END:VEVENT
END:VCALENDAR