BEGIN:VCALENDAR
VERSION:2.0
PRODID:-//CEAM - ECPv4.6.22//NONSGML v1.0//EN
CALSCALE:GREGORIAN
METHOD:PUBLISH
X-WR-CALNAME:CEAM
X-ORIGINAL-URL:https://www.ceam.org.uy
X-WR-CALDESC:Eventos para CEAM
BEGIN:VEVENT
DTSTART;TZID=UTC-3:20230803T153000
DTEND;TZID=UTC-3:20230803T180000
DTSTAMP:20260425T034413
CREATED:20230803T155331Z
LAST-MODIFIED:20230803T155331Z
UID:7037-1691076600-1691085600@www.ceam.org.uy
SUMMARY:REUNION DE SEÑORAS EN LA CEAM
DESCRIPTION:El JUEVES 3 DE AGOSTO DE 2023 A LAS 15.30 H SE REUNEN LAS SEÑORAS. ENTRADA BLANES Y DURAZNO POR EL PORTONCITO DEL JARDIN. \nCompartirHaz clic para compartir en Facebook (Se abre en una ventana nueva)Haz clic para compartir en WhatsApp (Se abre en una ventana nueva)
URL:https://www.ceam.org.uy/evento/reunion-de-senoras-en-la-ceam/
CATEGORIES:CEAM-Varios
END:VEVENT
END:VCALENDAR