BEGIN:VCALENDAR
VERSION:2.0
PRODID:-//CEAM - ECPv4.6.22//NONSGML v1.0//EN
CALSCALE:GREGORIAN
METHOD:PUBLISH
X-WR-CALNAME:CEAM
X-ORIGINAL-URL:https://www.ceam.org.uy
X-WR-CALDESC:Eventos para CEAM
BEGIN:VEVENT
DTSTART;TZID=UTC-3:20231222T180000
DTEND;TZID=UTC-3:20231222T193000
DTSTAMP:20260423T104758
CREATED:20231203T160845Z
LAST-MODIFIED:20231230T213846Z
UID:7540-1703268000-1703273400@www.ceam.org.uy
SUMMARY:WEIHNACHTSGOTTESDIENST IN PUNTA DEL ESTE - CEAM
DESCRIPTION:Freitag 22.12.2023 – 18.00 Uhr – Weihnachtsgottesdienst – Krippenspiel – ( Punta del Este) \n \n \n \nCompartirHaz clic para compartir en Facebook (Se abre en una ventana nueva)Haz clic para compartir en WhatsApp (Se abre en una ventana nueva)\n\n	\n
URL:https://www.ceam.org.uy/evento/weihnachtsgottesdienst-in-punta-del-este-ceam/
CATEGORIES:Cultos
END:VEVENT
END:VCALENDAR