BEGIN:VCALENDAR
VERSION:2.0
PRODID:-//CEAM - ECPv4.6.22//NONSGML v1.0//EN
CALSCALE:GREGORIAN
METHOD:PUBLISH
X-WR-CALNAME:CEAM
X-ORIGINAL-URL:https://www.ceam.org.uy
X-WR-CALDESC:Eventos para CEAM
BEGIN:VEVENT
DTSTART;TZID=UTC-3:20221113T110000
DTEND;TZID=UTC-3:20221113T120000
DTSTAMP:20260425T144820
CREATED:20221111T144814Z
LAST-MODIFIED:20221111T144814Z
UID:6179-1668337200-1668340800@www.ceam.org.uy
SUMMARY:VOLKSTRAUERTAG - DIA DE DUELO NACIONAL - DOMINGO 13.11.2022 - 11 h
DESCRIPTION:Domingo – 13 de noviembre 11.00 h Volkstrauertag – Dia del duelo nacional – Cementerio del Norte\n VOLKSTRAUERTAG\nTambién anunciamos nuestro importante acto de conmemoración de las víctimas militares y civiles de las guerras.\nComo siempre nuestra iglesia estará presente en la persona de su pastor\, este año no nos podrá acompañar por parte de la iglesia católica ningún sacerdote. \n Convocados por el  Embajador de la República Federal de Alemania\, Sr. Eugen Wollfarth nos encontramos el domingo 13 de Noviembre a las 11 h en el Cementerio del Norte. Ese domingo no hay culto en la iglesia\, sino el acto en el cementerio.\nLos esperamos para elevar nuestras oraciones y rezar un Vaterunser. \n \nCompartirHaz clic para compartir en Facebook (Se abre en una ventana nueva)Haz clic para compartir en WhatsApp (Se abre en una ventana nueva)\n\n	\n
URL:https://www.ceam.org.uy/evento/volkstrauertag-dia-de-duelo-nacional-domingo-13-11-2022-11-h/
CATEGORIES:CEAM-Varios,Cultos
END:VEVENT
END:VCALENDAR