BEGIN:VCALENDAR
VERSION:2.0
PRODID:-//CEAM - ECPv4.6.22//NONSGML v1.0//EN
CALSCALE:GREGORIAN
METHOD:PUBLISH
X-WR-CALNAME:CEAM
X-ORIGINAL-URL:https://www.ceam.org.uy
X-WR-CALDESC:Eventos para CEAM
BEGIN:VEVENT
DTSTART;TZID=UTC-3:20211114T110000
DTEND;TZID=UTC-3:20211114T113000
DTSTAMP:20260425T234454
CREATED:20211109T144838Z
LAST-MODIFIED:20211109T144838Z
UID:5568-1636887600-1636889400@www.ceam.org.uy
SUMMARY:VOLKSTRAUERTAG - DIA DE DUELO NACIONAL
DESCRIPTION:​Domingo 14 de noviembre a las 11h en el cementerio Norte  tenemos nuestro Volkstrauertag ecuménico organizado por la Embajada de Alemania. \nCompartirHaz clic para compartir en Facebook (Se abre en una ventana nueva)Haz clic para compartir en WhatsApp (Se abre en una ventana nueva)\n\n	\n
URL:https://www.ceam.org.uy/evento/volkstrauertag-dia-de-duelo-nacional-2/
CATEGORIES:CEAM-Varios,Otros
END:VEVENT
END:VCALENDAR