BEGIN:VCALENDAR
VERSION:2.0
PRODID:-//CEAM - ECPv4.6.22//NONSGML v1.0//EN
CALSCALE:GREGORIAN
METHOD:PUBLISH
X-WR-CALNAME:CEAM
X-ORIGINAL-URL:https://www.ceam.org.uy
X-WR-CALDESC:Eventos para CEAM
BEGIN:VEVENT
DTSTART;TZID=UTC-3:20240329T150000
DTEND;TZID=UTC-3:20240329T170000
DTSTAMP:20260422T194206
CREATED:20240409T170453Z
LAST-MODIFIED:20240409T170644Z
UID:8013-1711724400-1711731600@www.ceam.org.uy
SUMMARY:Viernes Santo
DESCRIPTION:29.O3.2024 – 15 h Actividad Ecuménica.\nAcompañamos a la Iglesia Católica Romana y a la Iglesia Anglicana en la tradicional procesión de Viernes Santo. Salimos del Templo Inglés sobre la Rambla y culminamos en la Catedral Metropolitana sobre la Plaza Matriz y en el altar de la misma cada uno de los dirigentes religiosos ofrecerá un corto mensaje. \nCompartirHaz clic para compartir en Facebook (Se abre en una ventana nueva)Haz clic para compartir en WhatsApp (Se abre en una ventana nueva)\n\n	\n
URL:https://www.ceam.org.uy/evento/viernes-santo/
CATEGORIES:CEAM-Varios
END:VEVENT
END:VCALENDAR