BEGIN:VCALENDAR
VERSION:2.0
PRODID:-//CEAM - ECPv4.6.22//NONSGML v1.0//EN
CALSCALE:GREGORIAN
METHOD:PUBLISH
X-WR-CALNAME:CEAM
X-ORIGINAL-URL:https://www.ceam.org.uy
X-WR-CALDESC:Eventos para CEAM
BEGIN:VEVENT
DTSTART;VALUE=DATE:20170628
DTEND;VALUE=DATE:20170629
DTSTAMP:20260422T091100
CREATED:20170607T200942Z
LAST-MODIFIED:20170607T200942Z
UID:820-1498608000-1498694399@www.ceam.org.uy
SUMMARY:Viaje del Pastor a Alemania
DESCRIPTION:El Pastor Granados fue invitado por la Confraternidad Judeo-Cristiana a participar de una conferencia en la ciudad de Bonn/Alemania. Estará de regreso de su viaje el …. \nCompartirHaz clic para compartir en Facebook (Se abre en una ventana nueva)Haz clic para compartir en WhatsApp (Se abre en una ventana nueva)\n\n	\n
URL:https://www.ceam.org.uy/evento/viaje-del-pastor-a-alemania/
CATEGORIES:Otros
END:VEVENT
END:VCALENDAR