BEGIN:VCALENDAR
VERSION:2.0
PRODID:-//CEAM - ECPv4.6.22//NONSGML v1.0//EN
CALSCALE:GREGORIAN
METHOD:PUBLISH
X-WR-CALNAME:CEAM
X-ORIGINAL-URL:https://www.ceam.org.uy
X-WR-CALDESC:Eventos para CEAM
BEGIN:VEVENT
DTSTART;VALUE=DATE:20170711
DTEND;VALUE=DATE:20170713
DTSTAMP:20260421T205246
CREATED:20170607T230905Z
LAST-MODIFIED:20170711T233604Z
UID:849-1499731200-1499903999@www.ceam.org.uy
SUMMARY:VACACIONES DE INVIERNO en el Colegio Alemán
DESCRIPTION: \nCompartirHaz clic para compartir en Facebook (Se abre en una ventana nueva)Haz clic para compartir en WhatsApp (Se abre en una ventana nueva)\n\n	\n
URL:https://www.ceam.org.uy/evento/vacaciones-de-invierno-en-el-colegio-aleman/
END:VEVENT
END:VCALENDAR