BEGIN:VCALENDAR
VERSION:2.0
PRODID:-//CEAM - ECPv4.6.22//NONSGML v1.0//EN
CALSCALE:GREGORIAN
METHOD:PUBLISH
X-WR-CALNAME:CEAM
X-ORIGINAL-URL:https://www.ceam.org.uy
X-WR-CALDESC:Eventos para CEAM
BEGIN:VEVENT
DTSTART;TZID=UTC-3:20220717T110000
DTEND;TZID=UTC-3:20220717T120000
DTSTAMP:20260426T000030
CREATED:20220802T223108Z
LAST-MODIFIED:20220802T223108Z
UID:5969-1658055600-1658059200@www.ceam.org.uy
SUMMARY:Sonntag - 17. Juli  -  11.00 Uhr in PUNTA DEL ESTE Gottesdienst in deutscher Sprache mit Abendmahl  5. Sonntag nach TRINITATIS
DESCRIPTION:Sonntag – 17. Juli  –  11.00 Uhr in PUNTA DEL ESTE\nGottesdienst in deutscher Sprache mit Abendmahl \n5. Sonntag nach TRINITATIS\n  P. Dr. Jerónimo Granados (Predigt) \nDa es kalt ist\, können wir uns im großen Wohnzimmer des Pfarrhauses neben der Kirche zum Abendmahl-Gottesdienst treffen.\nEs hat einen Kamin\, um den Raum zu wärmen.\nNach dem Gottesdienst können wir eine Tasse Tee mit Keksen geniessen. \nEs wird eine schöne Gelegenheit sein\, in Gemeinschaft zu sein. \nBitte\, laden Sie Ihre Bekannten ein. \nGottes Segen. \nJerónimo \nDeutsche Evangelische Gemeinde  \nRincón del Indio\nPablo Neruda & Leonardo Da Vinci\nParada 29 Playa Brava\nPUNTA DEL ESTE \nInvitamos al culto en alemán en Punta del Este. Luego del mismo compartiremos una taza de té y alguna galletita.  \nCompartirHaz clic para compartir en Facebook (Se abre en una ventana nueva)Haz clic para compartir en WhatsApp (Se abre en una ventana nueva)\n\n	\n
URL:https://www.ceam.org.uy/evento/sonntag-17-juli-11-00-uhr-in-punta-del-este-gottesdienst-in-deutscher-sprache-mit-abendmahl-5-sonntag-nach-trinitatis/
CATEGORIES:Cultos
END:VEVENT
END:VCALENDAR