BEGIN:VCALENDAR
VERSION:2.0
PRODID:-//CEAM - ECPv4.6.22//NONSGML v1.0//EN
CALSCALE:GREGORIAN
METHOD:PUBLISH
X-WR-CALNAME:CEAM
X-ORIGINAL-URL:https://www.ceam.org.uy
X-WR-CALDESC:Eventos para CEAM
BEGIN:VEVENT
DTSTART;TZID=UTC-3:20231118T200000
DTEND;TZID=UTC-3:20231118T213000
DTSTAMP:20260423T174802
CREATED:20231103T134441Z
LAST-MODIFIED:20231116T133411Z
UID:7422-1700337600-1700343000@www.ceam.org.uy
SUMMARY:Sábado 18 de noviembre a las 19 h la NOCHE DE LOS TEMPLOS CEAM - Con la participación del CORO ARCADIA
DESCRIPTION:NOCHE DE LOS TEMPLOS\nSábado 18 de noviembre a las 20 h \n Con la participación del CORO ARCADIA \nPresentación en el Ministerio de Turismo. \nLA NOCHE DE LOS TEMPLOS EN LA CONGREGACIÓN EVANGÉLICA ALEMANA DE MONTEVIDEO  \nSÁBADO 18 DE NOVIEMBRE 20 H \nPresentamos al CORO ARCADIA – Director Artístico  Maestro Gabriel González Fernández\n………………. \n8 comunidades y 14 templos participan en la Noche de los Templos\nMartes\, 14 Noviembre 2023 \nFue presentado por Rosario Bianco\, Remo Monzeglio y Jerónimo Granados.  \nUna nueva edición del evento que promueve y difunde el rico patrimonio material e inmaterial de los templos\, mostrando la diversidad religiosa\, tendrá lugar el próximo 18 de noviembre con diversas propuestas que incluyen música\, charlas y itinerarios turísticos para disfrutar. \nEn la 5ª edición de la Noche de los Templos participarán 8 comunidades y 14 templos. Las comunidades son : Católica Romana\, Católica Anglicana\, Evangélica Luterana\, Sefaradi Judía\, Evangélica Valdense Evangélica Metodista\, Evangélica Nueva Apostólica y Tradicional Yoruba. \nHabrán visitas guiadas\, exposiciones de arte\, artesanías\, un evento turístico que se encuentra comprendido en el denominado “turismo religioso”\, temática de mayor crecimiento en el mundo (OMT). \nDesde el Ministerio de Turismo se resaltó la importancia de esta iniciativa para fomentar el turismo interno y atraer a visitantes extranjeros interesados en explorar el rico patrimonio religioso y cultural de la ciudad. Además\, se resaltó la colaboración entre el sector público y privado en su organización y desarrollo. \nPara que Uruguay esté más presente en esta oferta turística mundial\, se pretende llevar este evento a más ciudades. \nEn diciembre de 2022 la 4ª edición se realizó en la ciudad San José de Mayo. Este año la 6ª edición será Binacional y se realizará el 2 de diciembre en las ciudades Chuy-Chui\, en la que participarán las colectividades católicas de Uruguay y Brasil\, además de Fe islámica Brasil. Éste será el Primer Evento Binacional de La Noche de los Templos. \nEn la mesa participaron el Subsecretario de Turismo\, Remo Monzeglio\, la organizadora del evento\, Rosario Bianco\, y el Pastor de la Congregación Evangélica Alemana (Luterana) Jerónimo Granados \nPortal de América \nLos esperamos con un saludo cordial.\nPastor Dr. Jerónimo Granados \nEntrada libre y gratuita\n \nCompartirHaz clic para compartir en Facebook (Se abre en una ventana nueva)Haz clic para compartir en WhatsApp (Se abre en una ventana nueva)\n\n	\n
URL:https://www.ceam.org.uy/evento/sabado-18-de-noviembre-a-las-19-h-la-noche-de-los-templos-ceam-con-la-participacion-del-coro-arcadia/
CATEGORIES:CEAM-Varios,Conciertos/Conferencias
END:VEVENT
END:VCALENDAR