BEGIN:VCALENDAR
VERSION:2.0
PRODID:-//CEAM - ECPv4.6.22//NONSGML v1.0//EN
CALSCALE:GREGORIAN
METHOD:PUBLISH
X-WR-CALNAME:CEAM
X-ORIGINAL-URL:https://www.ceam.org.uy
X-WR-CALDESC:Eventos para CEAM
BEGIN:VEVENT
DTSTART;TZID=UTC-3:20230525T153000
DTEND;TZID=UTC-3:20230525T183000
DTSTAMP:20260424T162255
CREATED:20230526T171335Z
LAST-MODIFIED:20230526T171335Z
UID:6757-1685028600-1685039400@www.ceam.org.uy
SUMMARY:Reunión Grupo de Señoras
DESCRIPTION:Jueves/Donnerstag 25.05.2023\, 15.30 h \nCompartirHaz clic para compartir en Facebook (Se abre en una ventana nueva)Haz clic para compartir en WhatsApp (Se abre en una ventana nueva)\n\n	\n
URL:https://www.ceam.org.uy/evento/reunion-grupo-de-senoras-2/
CATEGORIES:CEAM-Varios
END:VEVENT
END:VCALENDAR