BEGIN:VCALENDAR
VERSION:2.0
PRODID:-//CEAM - ECPv4.6.22//NONSGML v1.0//EN
CALSCALE:GREGORIAN
METHOD:PUBLISH
X-WR-CALNAME:CEAM
X-ORIGINAL-URL:https://www.ceam.org.uy
X-WR-CALDESC:Eventos para CEAM
BEGIN:VEVENT
DTSTART;TZID=UTC-3:20221124T153000
DTEND;TZID=UTC-3:20221124T183000
DTSTAMP:20260425T120723
CREATED:20221111T153038Z
LAST-MODIFIED:20221111T153038Z
UID:6195-1669303800-1669314600@www.ceam.org.uy
SUMMARY:REUNION GRUPO DE DAMAS
DESCRIPTION:REUNION GRUPO DE DAMAS – A LAS 15.30 H \nCompartirHaz clic para compartir en Facebook (Se abre en una ventana nueva)Haz clic para compartir en WhatsApp (Se abre en una ventana nueva)\n\n	\n
URL:https://www.ceam.org.uy/evento/reunion-grupo-de-damas-2/
CATEGORIES:CEAM-Varios
END:VEVENT
END:VCALENDAR