BEGIN:VCALENDAR
VERSION:2.0
PRODID:-//CEAM - ECPv4.6.22//NONSGML v1.0//EN
CALSCALE:GREGORIAN
METHOD:PUBLISH
X-WR-CALNAME:CEAM
X-ORIGINAL-URL:https://www.ceam.org.uy
X-WR-CALDESC:Eventos para CEAM
BEGIN:VEVENT
DTSTART;TZID=UTC-3:20230511T153000
DTEND;TZID=UTC-3:20230511T180000
DTSTAMP:20260424T162353
CREATED:20230510T115648Z
LAST-MODIFIED:20230510T115648Z
UID:6726-1683819000-1683828000@www.ceam.org.uy
SUMMARY:Reunión del grupo de señoras
DESCRIPTION:El jueves 11 demayo de 2023 a las 15.30 h se reune el grupo de señoras de la Congregación. Juan Manuel Blanes 1116 esquina Durazno. \nCompartirHaz clic para compartir en Facebook (Se abre en una ventana nueva)Haz clic para compartir en WhatsApp (Se abre en una ventana nueva)\n\n	\n
URL:https://www.ceam.org.uy/evento/reunion-del-grupo-de-senoras/
CATEGORIES:CEAM-Varios
END:VEVENT
END:VCALENDAR