BEGIN:VCALENDAR
VERSION:2.0
PRODID:-//CEAM - ECPv4.6.22//NONSGML v1.0//EN
CALSCALE:GREGORIAN
METHOD:PUBLISH
X-WR-CALNAME:CEAM
X-ORIGINAL-URL:https://www.ceam.org.uy
X-WR-CALDESC:Eventos para CEAM
BEGIN:VEVENT
DTSTART;TZID=UTC-3:20171214T153000
DTEND;TZID=UTC-3:20171214T180000
DTSTAMP:20260420T221233
CREATED:20171203T124048Z
LAST-MODIFIED:20171213T233739Z
UID:1587-1513265400-1513274400@www.ceam.org.uy
SUMMARY:Reunión del grupo de damas
DESCRIPTION:14.12.2017 – 15.30 h \nÚltima reunión del año 2017 – Adventskaffee – reunión de Adviento. \nCompartirHaz clic para compartir en Facebook (Se abre en una ventana nueva)Haz clic para compartir en WhatsApp (Se abre en una ventana nueva)\n\n	\n
URL:https://www.ceam.org.uy/evento/reunion-del-grupo-de-damas-26/
CATEGORIES:Otros
END:VEVENT
END:VCALENDAR