BEGIN:VCALENDAR
VERSION:2.0
PRODID:-//CEAM - ECPv4.6.22//NONSGML v1.0//EN
CALSCALE:GREGORIAN
METHOD:PUBLISH
X-WR-CALNAME:CEAM
X-ORIGINAL-URL:https://www.ceam.org.uy
X-WR-CALDESC:Eventos para CEAM
BEGIN:VEVENT
DTSTART;TZID=UTC-3:20230910T120000
DTEND;TZID=UTC-3:20230910T170000
DTSTAMP:20260423T213347
CREATED:20230909T005054Z
LAST-MODIFIED:20230909T005114Z
UID:7172-1694347200-1694365200@www.ceam.org.uy
SUMMARY:REUNION DE JOVENES\, ALMUERZO COMUNITARIO Y PINTURA DEL MURO
DESCRIPTION:a continuación del culto – con almuerzo comunitario a la lluvia \nCompartirHaz clic para compartir en Facebook (Se abre en una ventana nueva)Haz clic para compartir en WhatsApp (Se abre en una ventana nueva)\n\n	\n
URL:https://www.ceam.org.uy/evento/reunion-de-jovenes-almuerzo-comunitario-y-pintura-del-muro/
CATEGORIES:Niños-Jóvenes-Confirmandos
END:VEVENT
END:VCALENDAR