BEGIN:VCALENDAR
VERSION:2.0
PRODID:-//CEAM - ECPv4.6.22//NONSGML v1.0//EN
CALSCALE:GREGORIAN
METHOD:PUBLISH
X-WR-CALNAME:CEAM
X-ORIGINAL-URL:https://www.ceam.org.uy
X-WR-CALDESC:Eventos para CEAM
BEGIN:VEVENT
DTSTART;TZID=UTC-3:20230604T100000
DTEND;TZID=UTC-3:20230604T160000
DTSTAMP:20260424T141505
CREATED:20230526T171621Z
LAST-MODIFIED:20230526T171621Z
UID:6762-1685872800-1685894400@www.ceam.org.uy
SUMMARY:Reunión de Jóvenes
DESCRIPTION:Domingo 4 de junio 10 h  – REUNIÓN DE JÓVENES Y DE JÓVENES UNIVERSITARIOS.\n Reflexión – trabajo sobre mural.\nCompartiremos una merienda \nCompartirHaz clic para compartir en Facebook (Se abre en una ventana nueva)Haz clic para compartir en WhatsApp (Se abre en una ventana nueva)\n\n	\n
URL:https://www.ceam.org.uy/evento/reunion-de-jovenes-5/
CATEGORIES:Niños-Jóvenes-Confirmandos
END:VEVENT
END:VCALENDAR