BEGIN:VCALENDAR
VERSION:2.0
PRODID:-//CEAM - ECPv4.6.22//NONSGML v1.0//EN
CALSCALE:GREGORIAN
METHOD:PUBLISH
X-WR-CALNAME:CEAM
X-ORIGINAL-URL:https://www.ceam.org.uy
X-WR-CALDESC:Eventos para CEAM
BEGIN:VEVENT
DTSTART;TZID=UTC-3:20230429T100000
DTEND;TZID=UTC-3:20230429T160000
DTSTAMP:20260424T175513
CREATED:20230427T173857Z
LAST-MODIFIED:20230427T173857Z
UID:6705-1682762400-1682784000@www.ceam.org.uy
SUMMARY:REUNION DE JOVENES
DESCRIPTION:​Sábado 29 de abril 10 h  – REUNIÓN DE JÓVENES Y DE JÓVENES UNIVERSITARIOS.\n Reflexión – trabajo sobre mural.\nCompartiremos unos panchos y unas hamburguesas\n———————————————————————————— \nCompartirHaz clic para compartir en Facebook (Se abre en una ventana nueva)Haz clic para compartir en WhatsApp (Se abre en una ventana nueva)\n\n	\n
URL:https://www.ceam.org.uy/evento/reunion-de-jovenes-3/
CATEGORIES:Niños-Jóvenes-Confirmandos
END:VEVENT
END:VCALENDAR