BEGIN:VCALENDAR
VERSION:2.0
PRODID:-//CEAM - ECPv4.6.22//NONSGML v1.0//EN
CALSCALE:GREGORIAN
METHOD:PUBLISH
X-WR-CALNAME:CEAM
X-ORIGINAL-URL:https://www.ceam.org.uy
X-WR-CALDESC:Eventos para CEAM
BEGIN:VEVENT
DTSTART;TZID=UTC-3:20230506T100000
DTEND;TZID=UTC-3:20230506T170000
DTSTAMP:20260424T175539
CREATED:20230418T153828Z
LAST-MODIFIED:20230418T153828Z
UID:6681-1683367200-1683392400@www.ceam.org.uy
SUMMARY:REUNION DE JOVENES
DESCRIPTION:Sábado 6 de mayo\, 10.00 h – Reunión de Jóvenes\nReflexión Pastor Granados\, mural y almuerzo con panchos y hamburguesas\, Montevideo \nCompartirHaz clic para compartir en Facebook (Se abre en una ventana nueva)Haz clic para compartir en WhatsApp (Se abre en una ventana nueva)\n\n	\n
URL:https://www.ceam.org.uy/evento/reunion-de-jovenes-2/
CATEGORIES:Niños-Jóvenes-Confirmandos
END:VEVENT
END:VCALENDAR