BEGIN:VCALENDAR
VERSION:2.0
PRODID:-//CEAM - ECPv4.6.22//NONSGML v1.0//EN
CALSCALE:GREGORIAN
METHOD:PUBLISH
X-WR-CALNAME:CEAM
X-ORIGINAL-URL:https://www.ceam.org.uy
X-WR-CALDESC:Eventos para CEAM
BEGIN:VEVENT
DTSTART;TZID=UTC-3:20170720T180000
DTEND;TZID=UTC-3:20170720T200000
DTSTAMP:20260423T150642
CREATED:20170711T230754Z
LAST-MODIFIED:20170711T230754Z
UID:950-1500573600-1500580800@www.ceam.org.uy
SUMMARY:Reunión de Directiva de la FIEU
DESCRIPTION:Federación de Iglesias Evangélicas del Uruguay \nCompartirHaz clic para compartir en Facebook (Se abre en una ventana nueva)Haz clic para compartir en WhatsApp (Se abre en una ventana nueva)\n\n	\n
URL:https://www.ceam.org.uy/evento/reunion-de-directiva-de-la-fieu-3/
END:VEVENT
END:VCALENDAR