BEGIN:VCALENDAR
VERSION:2.0
PRODID:-//CEAM - ECPv4.6.22//NONSGML v1.0//EN
CALSCALE:GREGORIAN
METHOD:PUBLISH
X-WR-CALNAME:CEAM
X-ORIGINAL-URL:https://www.ceam.org.uy
X-WR-CALDESC:Eventos para CEAM
BEGIN:VEVENT
DTSTART;TZID=UTC-3:20230727T153000
DTEND;TZID=UTC-3:20230727T180000
DTSTAMP:20260424T073423
CREATED:20230727T160510Z
LAST-MODIFIED:20230727T160510Z
UID:6989-1690471800-1690480800@www.ceam.org.uy
SUMMARY:REUNION DE DAMAS EN LA CEAM
DESCRIPTION:Jueves 27 de julio a las 15.30 h \nReunión de Damas – se reúnen generalmente los jueves a las 15.30 h\nPara mayor información comunicarse al 099 303 746  (Ingrid Jahn)\nEntrada por el portón del jardín de Blanes y Durazno. \nCompartirHaz clic para compartir en Facebook (Se abre en una ventana nueva)Haz clic para compartir en WhatsApp (Se abre en una ventana nueva)\n\n	\n
URL:https://www.ceam.org.uy/evento/reunion-de-damas-en-la-ceam-3/
CATEGORIES:CEAM-Varios
END:VEVENT
END:VCALENDAR