BEGIN:VCALENDAR
VERSION:2.0
PRODID:-//CEAM - ECPv4.6.22//NONSGML v1.0//EN
CALSCALE:GREGORIAN
METHOD:PUBLISH
X-WR-CALNAME:CEAM
X-ORIGINAL-URL:https://www.ceam.org.uy
X-WR-CALDESC:Eventos para CEAM
BEGIN:VEVENT
DTSTART;TZID=UTC-3:20240208T153000
DTEND;TZID=UTC-3:20240208T180000
DTSTAMP:20260423T024659
CREATED:20240226T162318Z
LAST-MODIFIED:20240226T162318Z
UID:7822-1707406200-1707415200@www.ceam.org.uy
SUMMARY:Reunión de damas
DESCRIPTION:Reunión de damas jueves 8 de febrero de 2024 a las 15.30 h. En caso de querer participar por favor anotarse por wapp al 099 303 746. \nCompartirHaz clic para compartir en Facebook (Se abre en una ventana nueva)Haz clic para compartir en WhatsApp (Se abre en una ventana nueva)\n\n	\n
URL:https://www.ceam.org.uy/evento/reunion-de-damas-7/
CATEGORIES:CEAM-Varios
END:VEVENT
END:VCALENDAR