BEGIN:VCALENDAR
VERSION:2.0
PRODID:-//CEAM - ECPv4.6.22//NONSGML v1.0//EN
CALSCALE:GREGORIAN
METHOD:PUBLISH
X-WR-CALNAME:CEAM
X-ORIGINAL-URL:https://www.ceam.org.uy
X-WR-CALDESC:Eventos para CEAM
BEGIN:VEVENT
DTSTART;TZID=UTC-3:20231207T153000
DTEND;TZID=UTC-3:20231207T180000
DTSTAMP:20260423T140152
CREATED:20231203T162018Z
LAST-MODIFIED:20231203T162307Z
UID:7551-1701963000-1701972000@www.ceam.org.uy
SUMMARY:REUNION DE DAMAS
DESCRIPTION:EL JUEVES 7 DE DICIEMBRE DE 2023 A LAS 15.30 H SE REALIZARÁ LA ÚLTIMA REUNIÓN DE DAMAS CON UNA REUNIÓN DE ADVIENTO – ADVENTSKAFFEE. CADA UNA COLABORA CON ALGO COMESTIBLE TIPICO NAVIDEÑO. \nFELIZ ÉPOCA DE ADVIENTO Y MUY FELIZ NAVIDAD !!!! \nCompartirHaz clic para compartir en Facebook (Se abre en una ventana nueva)Haz clic para compartir en WhatsApp (Se abre en una ventana nueva)\n\n	\n
URL:https://www.ceam.org.uy/evento/reunion-de-damas-6/
CATEGORIES:Otros
END:VEVENT
END:VCALENDAR