BEGIN:VCALENDAR
VERSION:2.0
PRODID:-//CEAM - ECPv4.6.22//NONSGML v1.0//EN
CALSCALE:GREGORIAN
METHOD:PUBLISH
X-WR-CALNAME:CEAM
X-ORIGINAL-URL:https://www.ceam.org.uy
X-WR-CALDESC:Eventos para CEAM
BEGIN:VEVENT
DTSTART;TZID=UTC-3:20231116T153000
DTEND;TZID=UTC-3:20231116T180000
DTSTAMP:20260423T181844
CREATED:20231116T134034Z
LAST-MODIFIED:20231116T134034Z
UID:7472-1700148600-1700157600@www.ceam.org.uy
SUMMARY:Reunión de Damas
DESCRIPTION:Este jueves 16 de noviembre\, a las 15.30h\, se reune el grupo de damas en el salón del jardín de la iglesia\, Blanes 1116. \nCompartirHaz clic para compartir en Facebook (Se abre en una ventana nueva)Haz clic para compartir en WhatsApp (Se abre en una ventana nueva)\n\n	\n
URL:https://www.ceam.org.uy/evento/reunion-de-damas-5/
CATEGORIES:Otros
END:VEVENT
END:VCALENDAR