BEGIN:VCALENDAR
VERSION:2.0
PRODID:-//CEAM - ECPv4.6.22//NONSGML v1.0//EN
CALSCALE:GREGORIAN
METHOD:PUBLISH
X-WR-CALNAME:CEAM
X-ORIGINAL-URL:https://www.ceam.org.uy
X-WR-CALDESC:Eventos para CEAM
BEGIN:VEVENT
DTSTART;TZID=UTC-3:20170720T153000
DTEND;TZID=UTC-3:20170720T180000
DTSTAMP:20260421T104042
CREATED:20170701T233435Z
LAST-MODIFIED:20170711T230656Z
UID:897-1500564600-1500573600@www.ceam.org.uy
SUMMARY:Reunión del grupo de damas con charla del Pastor
DESCRIPTION:Reunión del grupo de damas\, con charla del Pastor a las 16.30 h – abierta al público \nCompartirHaz clic para compartir en Facebook (Se abre en una ventana nueva)Haz clic para compartir en WhatsApp (Se abre en una ventana nueva)\n\n	\n
URL:https://www.ceam.org.uy/evento/reunion-de-damas-3/
CATEGORIES:Otros
END:VEVENT
END:VCALENDAR