BEGIN:VCALENDAR
VERSION:2.0
PRODID:-//CEAM - ECPv4.6.22//NONSGML v1.0//EN
CALSCALE:GREGORIAN
METHOD:PUBLISH
X-WR-CALNAME:CEAM
X-ORIGINAL-URL:https://www.ceam.org.uy
X-WR-CALDESC:Eventos para CEAM
BEGIN:VEVENT
DTSTART;TZID=UTC-3:20170804T090000
DTEND;TZID=UTC-3:20170804T110000
DTSTAMP:20260421T195244
CREATED:20170711T222233Z
LAST-MODIFIED:20170711T222233Z
UID:915-1501837200-1501844400@www.ceam.org.uy
SUMMARY:Reunión de Comisión Directiva del CICU
DESCRIPTION:Consejo de Iglesias Cristianas del Uruguay \nCompartirHaz clic para compartir en Facebook (Se abre en una ventana nueva)Haz clic para compartir en WhatsApp (Se abre en una ventana nueva)\n\n	\n
URL:https://www.ceam.org.uy/evento/reunion-de-comision-directiva-del-cicu-2/
END:VEVENT
END:VCALENDAR