BEGIN:VCALENDAR
VERSION:2.0
PRODID:-//CEAM - ECPv4.6.22//NONSGML v1.0//EN
CALSCALE:GREGORIAN
METHOD:PUBLISH
X-WR-CALNAME:CEAM
X-ORIGINAL-URL:https://www.ceam.org.uy
X-WR-CALDESC:Eventos para CEAM
BEGIN:VEVENT
DTSTART;TZID=UTC-3:20230706T190000
DTEND;TZID=UTC-3:20230706T200000
DTSTAMP:20260424T105938
CREATED:20230727T155453Z
LAST-MODIFIED:20230727T155453Z
UID:6974-1688670000-1688673600@www.ceam.org.uy
SUMMARY:REUNION DE COMISION DIRECTIVA DE LA CEAM
DESCRIPTION:Jueves 6 de julio\, 19.00 h – Reunión de Comisión Directiva CEAM por ZOOM. \nCompartirHaz clic para compartir en Facebook (Se abre en una ventana nueva)Haz clic para compartir en WhatsApp (Se abre en una ventana nueva)\n\n	\n
URL:https://www.ceam.org.uy/evento/reunion-de-comision-directiva-de-la-ceam-13/
CATEGORIES:CEAM-Directiva/Reuniones-Asambleas
END:VEVENT
END:VCALENDAR