BEGIN:VCALENDAR
VERSION:2.0
PRODID:-//CEAM - ECPv4.6.22//NONSGML v1.0//EN
CALSCALE:GREGORIAN
METHOD:PUBLISH
X-WR-CALNAME:CEAM
X-ORIGINAL-URL:https://www.ceam.org.uy
X-WR-CALDESC:Eventos para CEAM
BEGIN:VEVENT
DTSTART;TZID=UTC-3:20221201T183000
DTEND;TZID=UTC-3:20221201T193000
DTSTAMP:20260425T110512
CREATED:20221126T095326Z
LAST-MODIFIED:20221126T095326Z
UID:6266-1669919400-1669923000@www.ceam.org.uy
SUMMARY:Reunión de Comisión Directiva.
DESCRIPTION:​Jueves 1​º​ de diciembre 18​.30​h: Reunión de Comisión Directiva. \nCompartirHaz clic para compartir en Facebook (Se abre en una ventana nueva)Haz clic para compartir en WhatsApp (Se abre en una ventana nueva)\n\n	\n
URL:https://www.ceam.org.uy/evento/reunion-de-comision-directiva-4/
CATEGORIES:CEAM-Directiva/Reuniones-Asambleas
END:VEVENT
END:VCALENDAR