BEGIN:VCALENDAR
VERSION:2.0
PRODID:-//CEAM - ECPv4.6.22//NONSGML v1.0//EN
CALSCALE:GREGORIAN
METHOD:PUBLISH
X-WR-CALNAME:CEAM
X-ORIGINAL-URL:https://www.ceam.org.uy
X-WR-CALDESC:Eventos para CEAM
BEGIN:VEVENT
DTSTART;VALUE=DATE:20231014
DTEND;VALUE=DATE:20231015
DTSTAMP:20260423T215247
CREATED:20231006T144559Z
LAST-MODIFIED:20231006T144616Z
UID:7303-1697241600-1697327999@www.ceam.org.uy
SUMMARY:Preparación para el Día Mundial de Oración
DESCRIPTION:14 de octubre en NUEVA HELVECIA\, Congregación Evangélica.\nCharlas preparativas para el Día Mundial de Oración 2024. \nCompartirHaz clic para compartir en Facebook (Se abre en una ventana nueva)Haz clic para compartir en WhatsApp (Se abre en una ventana nueva)\n\n	\n
URL:https://www.ceam.org.uy/evento/preparacion-para-el-dia-mundial-de-oracion/
CATEGORIES:Ecumenismo-Obras Ecuménicas
END:VEVENT
END:VCALENDAR