BEGIN:VCALENDAR
VERSION:2.0
PRODID:-//CEAM - ECPv4.6.22//NONSGML v1.0//EN
CALSCALE:GREGORIAN
METHOD:PUBLISH
X-WR-CALNAME:CEAM
X-ORIGINAL-URL:https://www.ceam.org.uy
X-WR-CALDESC:Eventos para CEAM
BEGIN:VEVENT
DTSTART;TZID=UTC-3:20191019T120000
DTEND;TZID=UTC-3:20191019T213000
DTSTAMP:20260424T200005
CREATED:20191016T140701Z
LAST-MODIFIED:20191016T140701Z
UID:3731-1571486400-1571520600@www.ceam.org.uy
SUMMARY:Piyamada Jóvenes del Distrito Uruguay :: Taller sobre adicciones y sus consecuencias
DESCRIPTION: \ncon charla sobre adicciones y sus consecuencias con la participación del Secretario General de la Junta Nacional de Drogas\, Diego Martín Olivera Couto\, y el taller a cargo de la Psic. Estefanía Vázquez. \nJuan Manuel Blanes 1116 \na partir del mediodía. \nCompartirHaz clic para compartir en Facebook (Se abre en una ventana nueva)Haz clic para compartir en WhatsApp (Se abre en una ventana nueva)\n\n	\n
URL:https://www.ceam.org.uy/evento/piyamada-jovenes-del-distrito-uruguay-taller-sobre-adicciones-y-sus-consecuencias/
CATEGORIES:Niños-Jóvenes-Confirmandos
END:VEVENT
END:VCALENDAR