BEGIN:VCALENDAR
VERSION:2.0
PRODID:-//CEAM - ECPv4.6.22//NONSGML v1.0//EN
CALSCALE:GREGORIAN
METHOD:PUBLISH
X-WR-CALNAME:CEAM
X-ORIGINAL-URL:https://www.ceam.org.uy
X-WR-CALDESC:Eventos para CEAM
BEGIN:VEVENT
DTSTART;TZID=UTC-3:20170604T110000
DTEND;TZID=UTC-3:20170604T120000
DTSTAMP:20260421T164916
CREATED:20170513T021214Z
LAST-MODIFIED:20170531T224857Z
UID:716-1496574000-1496577600@www.ceam.org.uy
SUMMARY:Pfingstgottesdienst mit Abendmahl
DESCRIPTION:Culto de Pentecostés en alemán con Santa Cena. \nCompartirHaz clic para compartir en Facebook (Se abre en una ventana nueva)Haz clic para compartir en WhatsApp (Se abre en una ventana nueva)\n\n	\n
URL:https://www.ceam.org.uy/evento/pfingstgottesdienst/
CATEGORIES:Cultos
END:VEVENT
END:VCALENDAR