BEGIN:VCALENDAR
VERSION:2.0
PRODID:-//CEAM - ECPv4.6.22//NONSGML v1.0//EN
CALSCALE:GREGORIAN
METHOD:PUBLISH
X-WR-CALNAME:CEAM
X-ORIGINAL-URL:https://www.ceam.org.uy
X-WR-CALDESC:Eventos para CEAM
BEGIN:VEVENT
DTSTART;TZID=UTC-3:20230604T110000
DTEND;TZID=UTC-3:20230604T120000
DTSTAMP:20260424T143121
CREATED:20230526T171530Z
LAST-MODIFIED:20230526T171530Z
UID:6759-1685876400-1685880000@www.ceam.org.uy
SUMMARY:Pfingstgottesdienst in Punta del Este
DESCRIPTION:Domingo 4 de junio\, 11.00 h\nPfingstgottesdienst\, Rincón del Indio Punta del Este. \n\nPastor Dr. Jerónimo Granados (Predigt)\nGeige – Paula Schwiedeßen \nKlavier – Don Wagner \n Capilla en Rincón del Indio – Calle P. Neruda esq. L. Da Vinci – Parada 29 Playa Brava- PUNTA DEL ESTE \n—————————————————————————- \nCompartirHaz clic para compartir en Facebook (Se abre en una ventana nueva)Haz clic para compartir en WhatsApp (Se abre en una ventana nueva)\n\n	\n
URL:https://www.ceam.org.uy/evento/pfingstgottesdienst-in-punta-del-este/
CATEGORIES:Cultos
END:VEVENT
END:VCALENDAR