BEGIN:VCALENDAR
VERSION:2.0
PRODID:-//CEAM - ECPv4.6.22//NONSGML v1.0//EN
CALSCALE:GREGORIAN
METHOD:PUBLISH
X-WR-CALNAME:CEAM
X-ORIGINAL-URL:https://www.ceam.org.uy
X-WR-CALDESC:Eventos para CEAM
BEGIN:VEVENT
DTSTART;TZID=UTC-3:20240928T093000
DTEND;TZID=UTC-3:20240928T120000
DTSTAMP:20260421T183733
CREATED:20240920T144313Z
LAST-MODIFIED:20240920T144313Z
UID:9145-1727515800-1727524800@www.ceam.org.uy
SUMMARY:PEREGRINACIÓN ECUMÉNICA
DESCRIPTION:PEREGRINACIÓN ECUMÉNICA POR EL RECICLAJE Y LIMPIEZA DE NUESTRA CIUDAD\nCICU\nCONSEJO DE IGLESIAS CRISTIANAS DEL URUGUAY\nSábado 28 DE SEPTIEMBRE 9\,30 h\nMontevideo \n \nCompartirHaz clic para compartir en Facebook (Se abre en una ventana nueva)Haz clic para compartir en WhatsApp (Se abre en una ventana nueva)\n\n	\n
URL:https://www.ceam.org.uy/evento/peregrinacion-ecumenica/
CATEGORIES:CEAM-Varios
END:VEVENT
END:VCALENDAR