BEGIN:VCALENDAR
VERSION:2.0
PRODID:-//CEAM - ECPv4.6.22//NONSGML v1.0//EN
CALSCALE:GREGORIAN
METHOD:PUBLISH
X-WR-CALNAME:CEAM
X-ORIGINAL-URL:https://www.ceam.org.uy
X-WR-CALDESC:Eventos para CEAM
BEGIN:VEVENT
DTSTART;TZID=UTC-3:20240317T110000
DTEND;TZID=UTC-3:20240317T120000
DTSTAMP:20260422T234628
CREATED:20240307T172218Z
LAST-MODIFIED:20240313T205054Z
UID:7884-1710673200-1710676800@www.ceam.org.uy
SUMMARY:Oster​gottesdienst mit Abendmah​l in Punta de​l​ Este - Rincón del Indio
DESCRIPTION:SONNTAG 17.03. – 11 H OSTERGOTTESDIENST IN PUNTA DEL ESTE\, RINCÓN DEL INDIO \n \nCompartirHaz clic para compartir en Facebook (Se abre en una ventana nueva)Haz clic para compartir en WhatsApp (Se abre en una ventana nueva)\n\n	\n
URL:https://www.ceam.org.uy/evento/oster%e2%80%8bgottesdienst-mit-abendmah%e2%80%8bl-in-punta-de%e2%80%8bl%e2%80%8b-este-rincon-del-indio/
CATEGORIES:Cultos
END:VEVENT
END:VCALENDAR