BEGIN:VCALENDAR
VERSION:2.0
PRODID:-//CEAM - ECPv4.6.22//NONSGML v1.0//EN
CALSCALE:GREGORIAN
METHOD:PUBLISH
X-WR-CALNAME:CEAM
X-ORIGINAL-URL:https://www.ceam.org.uy
X-WR-CALDESC:Eventos para CEAM
BEGIN:VEVENT
DTSTART;VALUE=DATE:20190413
DTEND;VALUE=DATE:20190414
DTSTAMP:20260421T180948
CREATED:20190415T212010Z
LAST-MODIFIED:20190415T212010Z
UID:3199-1555113600-1555199999@www.ceam.org.uy
SUMMARY:Nuevo Consejo de Administración de la Fundación Hora de Obrar
DESCRIPTION:\nNuevo Consejo de Administración de la Fundación Hora de Obrar \n\nIng. Darling Olano y Marina Rodríguez Kratje\, miembros de nuestra Congregación\, como nuevas integrantes de esta Obra. \nCompartirHaz clic para compartir en Facebook (Se abre en una ventana nueva)Haz clic para compartir en WhatsApp (Se abre en una ventana nueva)\n\n	\n
URL:https://www.ceam.org.uy/evento/nuevo-consejo-de-administracion-de-la-fundacion-hora-de-obrar/
CATEGORIES:CEAM-Varios
END:VEVENT
END:VCALENDAR