BEGIN:VCALENDAR
VERSION:2.0
PRODID:-//CEAM - ECPv4.6.22//NONSGML v1.0//EN
CALSCALE:GREGORIAN
METHOD:PUBLISH
X-WR-CALNAME:CEAM
X-ORIGINAL-URL:https://www.ceam.org.uy
X-WR-CALDESC:Eventos para CEAM
BEGIN:VEVENT
DTSTART;TZID=UTC-3:20211120T200000
DTEND;TZID=UTC-3:20211120T210000
DTSTAMP:20260425T200357
CREATED:20211205T120633Z
LAST-MODIFIED:20211205T120633Z
UID:5643-1637438400-1637442000@www.ceam.org.uy
SUMMARY:Noche de los Templos - Concierto - 20.11.2021 - 20h
DESCRIPTION: \nCompartirHaz clic para compartir en Facebook (Se abre en una ventana nueva)Haz clic para compartir en WhatsApp (Se abre en una ventana nueva)\n\n	\n
URL:https://www.ceam.org.uy/evento/noche-de-los-templos-concierto-20-11-2021-20h/
CATEGORIES:Conciertos/Conferencias
END:VEVENT
END:VCALENDAR