BEGIN:VCALENDAR
VERSION:2.0
PRODID:-//CEAM - ECPv4.6.22//NONSGML v1.0//EN
CALSCALE:GREGORIAN
METHOD:PUBLISH
X-WR-CALNAME:CEAM
X-ORIGINAL-URL:https://www.ceam.org.uy
X-WR-CALDESC:Eventos para CEAM
BEGIN:VEVENT
DTSTART;VALUE=DATE:20241124
DTEND;VALUE=DATE:20241125
DTSTAMP:20260421T111845
CREATED:20241031T132705Z
LAST-MODIFIED:20241031T132705Z
UID:9369-1732406400-1732492799@www.ceam.org.uy
SUMMARY:NO HAY ACTIVIDADES - ELECCIONES PRESIDENCIALES
DESCRIPTION:DOMINGO 24.11.2024  – NO HAY ACTIVIDADES – ELECCIONES PRESIDENCIALES \nCompartirHaz clic para compartir en Facebook (Se abre en una ventana nueva)Haz clic para compartir en WhatsApp (Se abre en una ventana nueva)\n\n	\n
URL:https://www.ceam.org.uy/evento/no-hay-actividades-elecciones-presidenciales/
CATEGORIES:Otros
END:VEVENT
END:VCALENDAR