BEGIN:VCALENDAR
VERSION:2.0
PRODID:-//CEAM - ECPv4.6.22//NONSGML v1.0//EN
CALSCALE:GREGORIAN
METHOD:PUBLISH
X-WR-CALNAME:CEAM
X-ORIGINAL-URL:https://www.ceam.org.uy
X-WR-CALDESC:Eventos para CEAM
BEGIN:VEVENT
DTSTART;TZID=UTC-3:20231210T100000
DTEND;TZID=UTC-3:20231210T110000
DTSTAMP:20260423T100351
CREATED:20231203T161325Z
LAST-MODIFIED:20231203T161325Z
UID:7545-1702202400-1702206000@www.ceam.org.uy
SUMMARY:KRIPPENSPIEL PROBE IN PUNTA DEL ESTE - CEAM
DESCRIPTION:KRIPPENSPIEL-PROBE  \nwir bereiten uns fûr den Weihnachtsgottesdienst vor\,\nSonntag 10. DEZEMBER  10 Uhr \nPablo Neruda & Leonardo Da Vinci\nParada 30 Playa Brava\nRINCÓN DEL INDIO – PUNTA DEL ESTE \nCompartirHaz clic para compartir en Facebook (Se abre en una ventana nueva)Haz clic para compartir en WhatsApp (Se abre en una ventana nueva)\n\n	\n
URL:https://www.ceam.org.uy/evento/krippenspiel-probe-in-punta-del-este-ceam/
CATEGORIES:CEAM-Varios,Cultos
END:VEVENT
END:VCALENDAR