BEGIN:VCALENDAR
VERSION:2.0
PRODID:-//CEAM - ECPv4.6.22//NONSGML v1.0//EN
CALSCALE:GREGORIAN
METHOD:PUBLISH
X-WR-CALNAME:CEAM
X-ORIGINAL-URL:https://www.ceam.org.uy
X-WR-CALDESC:Eventos para CEAM
BEGIN:VEVENT
DTSTART;TZID=UTC-3:20240229T153000
DTEND;TZID=UTC-3:20240229T180000
DTSTAMP:20260423T030349
CREATED:20240226T160431Z
LAST-MODIFIED:20240226T160431Z
UID:7809-1709220600-1709229600@www.ceam.org.uy
SUMMARY:JUEVES 29.02.2024 – 15.30 h – Reunión de Damas
DESCRIPTION:JUEVES 29.02.2024 – 15.30 h – Reunión de Damas \nCompartirHaz clic para compartir en Facebook (Se abre en una ventana nueva)Haz clic para compartir en WhatsApp (Se abre en una ventana nueva)\n\n	\n
URL:https://www.ceam.org.uy/evento/jueves-29-02-2024-15-30-h-reunion-de-damas/
CATEGORIES:CEAM-Varios
END:VEVENT
END:VCALENDAR