BEGIN:VCALENDAR
VERSION:2.0
PRODID:-//CEAM - ECPv4.6.22//NONSGML v1.0//EN
CALSCALE:GREGORIAN
METHOD:PUBLISH
X-WR-CALNAME:CEAM
X-ORIGINAL-URL:https://www.ceam.org.uy
X-WR-CALDESC:Eventos para CEAM
BEGIN:VEVENT
DTSTART;TZID=UTC-3:20230219T180000
DTEND;TZID=UTC-3:20230219T193000
DTSTAMP:20260425T030220
CREATED:20230215T231405Z
LAST-MODIFIED:20230215T231405Z
UID:6541-1676829600-1676835000@www.ceam.org.uy
SUMMARY:Gottesdienst in Punta del Este - Sonntag 19.02. - 18h
DESCRIPTION: \nSonntag 19 Februar 18 h Gottesdienst in deutscher Sprache mit Abendmahl. Rincón del Indio\, Calles Pablo Neruda y Leonardo da Vinci. Parada 29\, Punta del Este. \nCompartirHaz clic para compartir en Facebook (Se abre en una ventana nueva)Haz clic para compartir en WhatsApp (Se abre en una ventana nueva)\n\n	\n
URL:https://www.ceam.org.uy/evento/gottesdienst-in-punta-del-este-sonntag-19-02-18h/
CATEGORIES:Cultos
END:VEVENT
END:VCALENDAR