BEGIN:VCALENDAR
VERSION:2.0
PRODID:-//CEAM - ECPv4.6.22//NONSGML v1.0//EN
CALSCALE:GREGORIAN
METHOD:PUBLISH
X-WR-CALNAME:CEAM
X-ORIGINAL-URL:https://www.ceam.org.uy
X-WR-CALDESC:Eventos para CEAM
BEGIN:VEVENT
DTSTART;TZID=UTC-3:20221210T160000
DTEND;TZID=UTC-3:20221210T200000
DTSTAMP:20260425T110351
CREATED:20221029T135158Z
LAST-MODIFIED:20221104T161650Z
UID:6145-1670688000-1670702400@www.ceam.org.uy
SUMMARY:FIESTA PARROQUIAL ::: GEMEINDEFEST - CEAM - 10.12.2022 - 16 h
DESCRIPTION: \nSábado / Samstag 10.12.2022 – 16.00 h \n          GEMEINDEFEST :: FIESTA PARROQUIAL              \nSe acerca la Navidad y con ella nuestra tradicional FIESTA PARROQUIAL para grandes y chicos con la visita del NIKOLAUS. \nBald ist es soweit und wir feiern unser traditionelles GEMEINDEFEST für Groβ und Klein mit dem Besuch des NIKOLAUS. \n                                                         ** Les esperamos con sus familias\, inviten a sus amigos !!  \n                 Wir erwarten Sie und Ihre Familie\, bringen Sie Freunde und Bekannte mit !! ** \n——————————————————————————————————————-\nSaluda cordialmente\nPastor Dr. Jerónimo Granados \nEmb.(R) Jorge Meyer Long\, Presidente \nCompartirHaz clic para compartir en Facebook (Se abre en una ventana nueva)Haz clic para compartir en WhatsApp (Se abre en una ventana nueva)\n\n	\n
URL:https://www.ceam.org.uy/evento/fiesta-parroquial-gemeindefest-ceam/
CATEGORIES:CEAM-Varios,Niños-Jóvenes-Confirmandos
END:VEVENT
END:VCALENDAR