BEGIN:VCALENDAR
VERSION:2.0
PRODID:-//CEAM - ECPv4.6.22//NONSGML v1.0//EN
CALSCALE:GREGORIAN
METHOD:PUBLISH
X-WR-CALNAME:CEAM
X-ORIGINAL-URL:https://www.ceam.org.uy
X-WR-CALDESC:Eventos para CEAM
BEGIN:VEVENT
DTSTART;VALUE=DATE:20170813
DTEND;VALUE=DATE:20170814
DTSTAMP:20260421T085705
CREATED:20170726T145218Z
LAST-MODIFIED:20170805T010946Z
UID:1037-1502582400-1502668799@www.ceam.org.uy
SUMMARY:FIESTA de JÓVENES del distrito Uruguay en Young - véase afiche
DESCRIPTION:Invitamos a todos a participar de esta fiesta\, a pasar un día entre amigos y para hacer amigos\, y disfrutar de una rica comida\, todo a beneficio de los jóvenes del distrito. Comienzo 10.30 horas. \nPor reservas véase afiche adjunto. LOS ESPERAMOS! \n \nCompartirHaz clic para compartir en Facebook (Se abre en una ventana nueva)Haz clic para compartir en WhatsApp (Se abre en una ventana nueva)\n\n	\n
URL:https://www.ceam.org.uy/evento/fiesta-de-jovenes-del-distrito-uruguay-en-young/
CATEGORIES:Niños-Jóvenes-Confirmandos
END:VEVENT
END:VCALENDAR