BEGIN:VCALENDAR
VERSION:2.0
PRODID:-//CEAM - ECPv4.6.22//NONSGML v1.0//EN
CALSCALE:GREGORIAN
METHOD:PUBLISH
X-WR-CALNAME:CEAM
X-ORIGINAL-URL:https://www.ceam.org.uy
X-WR-CALDESC:Eventos para CEAM
BEGIN:VEVENT
DTSTART;VALUE=DATE:20221120
DTEND;VALUE=DATE:20221121
DTSTAMP:20260425T154059
CREATED:20221111T145436Z
LAST-MODIFIED:20221114T131832Z
UID:6186-1668902400-1668988799@www.ceam.org.uy
SUMMARY:FIESTA ANUAL HOGAR DE NIÑOS AMANECER - CON CULTO Y ALMUERZO
DESCRIPTION: \nEl domingo 20 de noviembre hay culto y almuerzo en el Hogar Amanecer y pasará un ómnibus por la iglesia para llevar a los miembros que deseen participar del mismo.\nAV. DE LASINSTRUCCIONES 4145\n—————————————————————————————————— \nCompartirHaz clic para compartir en Facebook (Se abre en una ventana nueva)Haz clic para compartir en WhatsApp (Se abre en una ventana nueva)\n\n	\n
URL:https://www.ceam.org.uy/evento/fiesta-anual-hogar-de-ninos-amanecer-con-culto-y-almuerzo/
CATEGORIES:Cultos,Ecumenismo-Obras Ecuménicas,Niños-Jóvenes-Confirmandos
END:VEVENT
END:VCALENDAR