BEGIN:VCALENDAR
VERSION:2.0
PRODID:-//CEAM - ECPv4.6.22//NONSGML v1.0//EN
CALSCALE:GREGORIAN
METHOD:PUBLISH
X-WR-CALNAME:CEAM
X-ORIGINAL-URL:https://www.ceam.org.uy
X-WR-CALDESC:Eventos para CEAM
BEGIN:VEVENT
DTSTART;TZID=UTC-3:20231119T110000
DTEND;TZID=UTC-3:20231119T150000
DTSTAMP:20260423T143034
CREATED:20231006T143745Z
LAST-MODIFIED:20231006T143745Z
UID:7295-1700391600-1700406000@www.ceam.org.uy
SUMMARY:FIESTA ANUAL HOGAR AMANECER :: JAHRESFEIER KINDERHEIM HOGAR AMANECER
DESCRIPTION: \nDOMINGO 19 de noviembre de 2o23   – de 11 a 15 h\nFIESTA ANUAL HOGAR AMANECER\nAv. de las Instrucciones 4145 casi Belloni \nCompartirHaz clic para compartir en Facebook (Se abre en una ventana nueva)Haz clic para compartir en WhatsApp (Se abre en una ventana nueva)\n\n	\n
URL:https://www.ceam.org.uy/evento/fiesta-anual-hogar-amanecer-jahresfeier-kinderheim-hogar-amanecer/
CATEGORIES:Ecumenismo-Obras Ecuménicas
END:VEVENT
END:VCALENDAR