BEGIN:VCALENDAR
VERSION:2.0
PRODID:-//CEAM - ECPv4.6.22//NONSGML v1.0//EN
CALSCALE:GREGORIAN
METHOD:PUBLISH
X-WR-CALNAME:CEAM
X-ORIGINAL-URL:https://www.ceam.org.uy
X-WR-CALDESC:Eventos para CEAM
BEGIN:VEVENT
DTSTART;TZID=UTC-3:20200812T180000
DTEND;TZID=UTC-3:20200812T190000
DTSTAMP:20260424T051109
CREATED:20200808T170649Z
LAST-MODIFIED:20200912T202515Z
UID:4393-1597255200-1597258800@www.ceam.org.uy
SUMMARY:ESTUDIOS BIBLICOS :: Miércoles 12 de agosto 18 h
DESCRIPTION:​Continuamos  en el primer siglo de vida de las primeras comunidades cristianas en una época que ha sido llamada intertestamentaria. Flavio Josefo fue un historiador judío que vivió las calamidades del pueblo judio bajo el yugo romano. Él describe esa guerra jud​í​a y de paso aparecen las primeras semblanzas de Jesús y su movimiento fuera del c​í​rculo propio. Apenas fueron  hilachas de ese Jesús y ese movimiento cristiano que aparecen en la pluma de su escrito. Fue así realmente? O hubieron otras plumas apócrifas? \n\n\n​Tema: Estudios Bíblicos CEAM\nHora: 18 h. Esta es una reunión recurrente Reunirse en cualquier momento\n\nUnirse a la reunión Zoom\nhttps://us04web.zoom.us/j/76337541478?pwd=K1dBMCs4OE1wcExDSk1LcXIvZ2lSdz09\n\nID de reunión: 763 3754 1478\nContraseña: 9fN3F5\n\n\n\nCompartirHaz clic para compartir en Facebook (Se abre en una ventana nueva)Haz clic para compartir en WhatsApp (Se abre en una ventana nueva)\n\n	\n
URL:https://www.ceam.org.uy/evento/estudios-biblicos-miercoles-12-de-agosto-18-h/
CATEGORIES:Charlas/Estudios Bíblicos
END:VEVENT
END:VCALENDAR