BEGIN:VCALENDAR
VERSION:2.0
PRODID:-//CEAM - ECPv4.6.22//NONSGML v1.0//EN
CALSCALE:GREGORIAN
METHOD:PUBLISH
X-WR-CALNAME:CEAM
X-ORIGINAL-URL:https://www.ceam.org.uy
X-WR-CALDESC:Eventos para CEAM
BEGIN:VEVENT
DTSTART;TZID=UTC-3:20230429T160000
DTEND;TZID=UTC-3:20230429T170000
DTSTAMP:20260424T180423
CREATED:20230331T171720Z
LAST-MODIFIED:20230427T173225Z
UID:6650-1682784000-1682787600@www.ceam.org.uy
SUMMARY:Estudio Bíblico\, sábado 29 de abril 16 h Montevideo\, 21 h Alemania
DESCRIPTION:​ESTUDIO BÍBLICO POR ZOOM\n​​​Sábado 29 de abril de 2023 a las 16 h Uruguay\, 2​1​ h Alemania \nTema: La mujer en la Biblia II – LA OTRA EVA\nESTE ES EL LINK\nhttps://us02web.zoom.us/j/76337541478?pwd=K1dBMCs4OE1wcExDSk1LcXIvZ2lSdz09\nID 763 3754 1478\nCódigo de acceso 9fN3F5 \n \nCompartirHaz clic para compartir en Facebook (Se abre en una ventana nueva)Haz clic para compartir en WhatsApp (Se abre en una ventana nueva)\n\n	\n
URL:https://www.ceam.org.uy/evento/estudio-biblico-sabado-29-de-abril-16-h-montevideo-21-h-alemania/
CATEGORIES:Charlas/Estudios Bíblicos
END:VEVENT
END:VCALENDAR