BEGIN:VCALENDAR
VERSION:2.0
PRODID:-//CEAM - ECPv4.6.22//NONSGML v1.0//EN
CALSCALE:GREGORIAN
METHOD:PUBLISH
X-WR-CALNAME:CEAM
X-ORIGINAL-URL:https://www.ceam.org.uy
X-WR-CALDESC:Eventos para CEAM
BEGIN:VEVENT
DTSTART;TZID=UTC-3:20240609T110000
DTEND;TZID=UTC-3:20240609T120000
DTSTAMP:20260424T101108
CREATED:20240527T234400Z
LAST-MODIFIED:20240527T234400Z
UID:8232-1717930800-1717934400@www.ceam.org.uy
SUMMARY:ESTUDIO BIBLICO EN LA CEAM
DESCRIPTION:ESTUDIO BÍBLICO POR ZOOM \nDOMINGO  09 DE JUNIO  –  11 h URUGUAY – 16 h ALEMANIA  \nCICLO 2024 EN IDIOMA ESPAÑOL \nLOS HERMANOS EN LA BIBLIA V \nLos hermanos de Jesús\nTuvo Hermnas Jesús? \n LINK      ZOOM\nhttps://us02web.zoom.us/j/76337541478?pwd=K1dBMCs4OE1wcExDSk1LcXIvZ2lSdz09  \nID 763 3754 1478\n  Código acceso 9fN3F5 \nCompartirHaz clic para compartir en Facebook (Se abre en una ventana nueva)Haz clic para compartir en WhatsApp (Se abre en una ventana nueva)\n\n	\n
URL:https://www.ceam.org.uy/evento/estudio-biblico-en-la-ceam-7/
CATEGORIES:Charlas/Estudios Bíblicos
END:VEVENT
END:VCALENDAR