BEGIN:VCALENDAR
VERSION:2.0
PRODID:-//CEAM - ECPv4.6.22//NONSGML v1.0//EN
CALSCALE:GREGORIAN
METHOD:PUBLISH
X-WR-CALNAME:CEAM
X-ORIGINAL-URL:https://www.ceam.org.uy
X-WR-CALDESC:Eventos para CEAM
BEGIN:VEVENT
DTSTART;TZID=UTC-3:20240414T110000
DTEND;TZID=UTC-3:20240414T120000
DTSTAMP:20260422T194939
CREATED:20240412T153653Z
LAST-MODIFIED:20240412T153952Z
UID:8020-1713092400-1713096000@www.ceam.org.uy
SUMMARY:ESTUDIO BÍBLICO EN LA CEAM
DESCRIPTION:DOMINGO    14.04.2024 – Estudio Bíblico por ZOOM – 11.00 h Uruguay (Montevideo Punta del Este)- 16 h Alemania –  – Los hermanos en la Biblia. El estudio Bíblico es en español\nTenía Jesús hermanos de sangre?\n LINK      ZOOM\nhttps://us02web.zoom.us/j/76337541478?pwd=K1dBMCs4OE1wcExDSk1LcXIvZ2lSdz09  \nID 763 3754 1478\n  Código acceso 9fN3F5 \n \nCompartirHaz clic para compartir en Facebook (Se abre en una ventana nueva)Haz clic para compartir en WhatsApp (Se abre en una ventana nueva)\n\n	\n
URL:https://www.ceam.org.uy/evento/estudio-biblico-en-la-ceam-6/
CATEGORIES:Charlas/Estudios Bíblicos
END:VEVENT
END:VCALENDAR