BEGIN:VCALENDAR
VERSION:2.0
PRODID:-//CEAM - ECPv4.6.22//NONSGML v1.0//EN
CALSCALE:GREGORIAN
METHOD:PUBLISH
X-WR-CALNAME:CEAM
X-ORIGINAL-URL:https://www.ceam.org.uy
X-WR-CALDESC:Eventos para CEAM
BEGIN:VEVENT
DTSTART;TZID=UTC-3:20231209T160000
DTEND;TZID=UTC-3:20231209T170000
DTSTAMP:20260423T140547
CREATED:20231203T160725Z
LAST-MODIFIED:20231203T161200Z
UID:7537-1702137600-1702141200@www.ceam.org.uy
SUMMARY:ESTUDIO BIBLICO EN LA CEAM
DESCRIPTION:Sábado 09.12.2023 – 16 h ESTUDIO BÍBLICO  – URUGUAY – 20 h ALEMANIA La Mu- jer en la Biblia XIII – La virgen Maria III\, MARYAM –  La Virgen María en el Islam \n \nESTUDIO BÍBLICO  \nSÁBADO 09 DE DICIEMBRE 16 h URUGUAY – 20 h ALEMANIA\nLa Mujer en la Biblia XIII\nLa virgen Maria III\, MARYAM –  La Virgen María en el Islam \n LINK      ZOOM\nhttps://us02web.zoom.us/j/76337541478?pwd=K1dBMCs4OE1wcExDSk1LcXIvZ2lSdz09  \nID 763 3754 1478\n  Código acceso 9fN3F5 \nCompartirHaz clic para compartir en Facebook (Se abre en una ventana nueva)Haz clic para compartir en WhatsApp (Se abre en una ventana nueva)\n\n	\n
URL:https://www.ceam.org.uy/evento/estudio-biblico-en-la-ceam-5/
CATEGORIES:Charlas/Estudios Bíblicos
END:VEVENT
END:VCALENDAR