BEGIN:VCALENDAR
VERSION:2.0
PRODID:-//CEAM - ECPv4.6.22//NONSGML v1.0//EN
CALSCALE:GREGORIAN
METHOD:PUBLISH
X-WR-CALNAME:CEAM
X-ORIGINAL-URL:https://www.ceam.org.uy
X-WR-CALDESC:Eventos para CEAM
BEGIN:VEVENT
DTSTART;TZID=UTC-3:20230729T160000
DTEND;TZID=UTC-3:20230729T170000
DTSTAMP:20260424T055433
CREATED:20230727T160132Z
LAST-MODIFIED:20230727T160132Z
UID:6982-1690646400-1690650000@www.ceam.org.uy
SUMMARY:ESTUDIO BIBLICO EN LA CEAM
DESCRIPTION:Sábado 29 de julio\, 16.00 h Uruguay – 21.00 h Alemania – ESTUDIO BÍBLICO\, VIRTUAL POR ZOOM  – La mujer en la Biblia VII – Pastor Dr. Jerónimo Granados\, Montevideo \n \nCompartirHaz clic para compartir en Facebook (Se abre en una ventana nueva)Haz clic para compartir en WhatsApp (Se abre en una ventana nueva)\n\n	\n
URL:https://www.ceam.org.uy/evento/estudio-biblico-en-la-ceam-2/
CATEGORIES:Charlas/Estudios Bíblicos
END:VEVENT
END:VCALENDAR